Package: KOdata Version: 1.32.0 Command: /home/biocbuild/bbs-3.20-bioc/R/bin/R CMD check --install=check:KOdata.install-out.txt --library=/home/biocbuild/bbs-3.20-bioc/R/site-library --timings KOdata_1.32.0.tar.gz StartedAt: 2025-01-30 12:15:33 -0500 (Thu, 30 Jan 2025) EndedAt: 2025-01-30 12:15:52 -0500 (Thu, 30 Jan 2025) EllapsedTime: 18.0 seconds RetCode: 0 Status: WARNINGS CheckDir: KOdata.Rcheck Warnings: 1