Package: LungCancerACvsSCCGEO Version: 1.42.0 Command: /home/biocbuild/bbs-3.20-bioc/R/bin/R CMD build --keep-empty-dirs --no-resave-data LungCancerACvsSCCGEO StartedAt: 2025-02-06 11:25:01 -0500 (Thu, 06 Feb 2025) EndedAt: 2025-02-06 11:28:31 -0500 (Thu, 06 Feb 2025) EllapsedTime: 210.0 seconds RetCode: 0 Status: OK PackageFile: LungCancerACvsSCCGEO_1.42.0.tar.gz PackageFileSize: 138.6 MiB