Package: LungCancerACvsSCCGEO Version: 1.42.0 Command: /home/biocbuild/bbs-3.20-bioc/R/bin/R CMD INSTALL LungCancerACvsSCCGEO StartedAt: 2025-01-30 10:55:55 -0500 (Thu, 30 Jan 2025) EndedAt: 2025-01-30 10:55:57 -0500 (Thu, 30 Jan 2025) EllapsedTime: 1.9 seconds RetCode: 0 Status: OK