Package: M3DExampleData Version: 1.32.0 Command: /home/biocbuild/bbs-3.20-bioc/R/bin/R CMD check --install=check:M3DExampleData.install-out.txt --library=/home/biocbuild/bbs-3.20-bioc/R/site-library --timings M3DExampleData_1.32.0.tar.gz StartedAt: 2025-02-11 12:18:33 -0500 (Tue, 11 Feb 2025) EndedAt: 2025-02-11 12:18:44 -0500 (Tue, 11 Feb 2025) EllapsedTime: 11.0 seconds RetCode: 0 Status: WARNINGS CheckDir: M3DExampleData.Rcheck Warnings: 1