Package: M3DExampleData Version: 1.32.0 Command: /home/biocbuild/bbs-3.20-bioc/R/bin/R CMD INSTALL M3DExampleData StartedAt: 2025-02-11 10:55:39 -0500 (Tue, 11 Feb 2025) EndedAt: 2025-02-11 10:55:42 -0500 (Tue, 11 Feb 2025) EllapsedTime: 2.3 seconds RetCode: 0 Status: OK