Package: MEEBOdata Version: 1.44.0 Command: /home/biocbuild/bbs-3.20-bioc/R/bin/R CMD build --keep-empty-dirs --no-resave-data MEEBOdata StartedAt: 2025-01-30 11:27:16 -0500 (Thu, 30 Jan 2025) EndedAt: 2025-01-30 11:27:20 -0500 (Thu, 30 Jan 2025) EllapsedTime: 4.6 seconds RetCode: 0 Status: OK PackageFile: MEEBOdata_1.44.0.tar.gz PackageFileSize: 6.869 MiB