Package: MEEBOdata Version: 1.44.0 Command: /home/biocbuild/bbs-3.20-bioc/R/bin/R CMD INSTALL MEEBOdata StartedAt: 2025-01-30 10:55:39 -0500 (Thu, 30 Jan 2025) EndedAt: 2025-01-30 10:55:43 -0500 (Thu, 30 Jan 2025) EllapsedTime: 3.7 seconds RetCode: 0 Status: OK