Package: MSMB Version: 1.24.0 Command: /home/biocbuild/bbs-3.20-bioc/R/bin/R CMD build --keep-empty-dirs --no-resave-data MSMB StartedAt: 2025-01-30 11:29:33 -0500 (Thu, 30 Jan 2025) EndedAt: 2025-01-30 11:29:40 -0500 (Thu, 30 Jan 2025) EllapsedTime: 7.6 seconds RetCode: 0 Status: OK PackageFile: MSMB_1.24.0.tar.gz PackageFileSize: 5.05 MiB