Package: MSMB Version: 1.24.0 Command: /home/biocbuild/bbs-3.20-bioc/R/bin/R CMD check --install=check:MSMB.install-out.txt --library=/home/biocbuild/bbs-3.20-bioc/R/site-library --timings MSMB_1.24.0.tar.gz StartedAt: 2025-01-30 12:23:57 -0500 (Thu, 30 Jan 2025) EndedAt: 2025-01-30 12:24:14 -0500 (Thu, 30 Jan 2025) EllapsedTime: 17.0 seconds RetCode: 0 Status: OK CheckDir: MSMB.Rcheck Warnings: 0