Package: MerfishData Version: 1.8.0 Command: /home/biocbuild/bbs-3.20-bioc/R/bin/R CMD INSTALL MerfishData StartedAt: 2025-02-06 11:00:18 -0500 (Thu, 06 Feb 2025) EndedAt: 2025-02-06 11:00:42 -0500 (Thu, 06 Feb 2025) EllapsedTime: 23.7 seconds RetCode: 0 Status: OK