Package: MethylAidData Version: 1.38.0 Command: /home/biocbuild/bbs-3.20-bioc/R/bin/R CMD check --install=check:MethylAidData.install-out.txt --library=/home/biocbuild/bbs-3.20-bioc/R/site-library --timings MethylAidData_1.38.0.tar.gz StartedAt: 2025-01-30 12:19:11 -0500 (Thu, 30 Jan 2025) EndedAt: 2025-01-30 12:22:30 -0500 (Thu, 30 Jan 2025) EllapsedTime: 199.6 seconds RetCode: 0 Status: OK CheckDir: MethylAidData.Rcheck Warnings: 0