Package: MethylSeqData Version: 1.16.0 Command: /home/biocbuild/bbs-3.20-bioc/R/bin/R CMD INSTALL MethylSeqData StartedAt: 2025-01-30 11:00:47 -0500 (Thu, 30 Jan 2025) EndedAt: 2025-01-30 11:01:19 -0500 (Thu, 30 Jan 2025) EllapsedTime: 31.4 seconds RetCode: 0 Status: OK