Package: MicrobiomeBenchmarkData Version: 1.8.0 Command: /home/biocbuild/bbs-3.20-bioc/R/bin/R CMD build --keep-empty-dirs --no-resave-data MicrobiomeBenchmarkData StartedAt: 2025-01-30 11:28:26 -0500 (Thu, 30 Jan 2025) EndedAt: 2025-01-30 11:29:32 -0500 (Thu, 30 Jan 2025) EllapsedTime: 66.0 seconds RetCode: 0 Status: OK PackageFile: MicrobiomeBenchmarkData_1.8.0.tar.gz PackageFileSize: 712.4 KiB