Package: NGScopyData Version: 1.26.0 Command: /home/biocbuild/bbs-3.20-bioc/R/bin/R CMD check --install=check:NGScopyData.install-out.txt --library=/home/biocbuild/bbs-3.20-bioc/R/site-library --timings NGScopyData_1.26.0.tar.gz StartedAt: 2025-02-04 12:25:15 -0500 (Tue, 04 Feb 2025) EndedAt: 2025-02-04 12:25:29 -0500 (Tue, 04 Feb 2025) EllapsedTime: 13.3 seconds RetCode: 0 Status: OK CheckDir: NGScopyData.Rcheck Warnings: 0