Package: NestLink Version: 1.22.0 Maintainer: Lennart Opitz MaintainerEmail: lopitz at fgcz.ethz.ch git_url: https://git.bioconductor.org/packages/NestLink git_branch: RELEASE_3_20 git_last_commit: 8d49fac git_last_commit_date: 2024-10-29 09:49:27 -0500 (Tue, 29 Oct 2024)