Package: NestLink Version: 1.22.0 Command: /home/biocbuild/bbs-3.20-bioc/R/bin/R CMD build --keep-empty-dirs --no-resave-data NestLink StartedAt: 2025-01-30 11:30:32 -0500 (Thu, 30 Jan 2025) EndedAt: 2025-01-30 11:34:24 -0500 (Thu, 30 Jan 2025) EllapsedTime: 232.1 seconds RetCode: 0 Status: OK PackageFile: NestLink_1.22.0.tar.gz PackageFileSize: 6.451 MiB