Package: NestLink Version: 1.22.0 Command: /home/biocbuild/bbs-3.20-bioc/R/bin/R CMD INSTALL NestLink StartedAt: 2025-02-06 11:03:44 -0500 (Thu, 06 Feb 2025) EndedAt: 2025-02-06 11:04:16 -0500 (Thu, 06 Feb 2025) EllapsedTime: 32.1 seconds RetCode: 0 Status: OK