Package: Neve2006 Version: 0.44.0 Command: /home/biocbuild/bbs-3.20-bioc/R/bin/R CMD check --install=check:Neve2006.install-out.txt --library=/home/biocbuild/bbs-3.20-bioc/R/site-library --timings Neve2006_0.44.0.tar.gz StartedAt: 2025-02-06 12:24:44 -0500 (Thu, 06 Feb 2025) EndedAt: 2025-02-06 12:26:28 -0500 (Thu, 06 Feb 2025) EllapsedTime: 104.5 seconds RetCode: 0 Status: OK CheckDir: Neve2006.Rcheck Warnings: 0