Package: Neve2006 Version: 0.44.0 Command: /home/biocbuild/bbs-3.20-bioc/R/bin/R CMD INSTALL Neve2006 StartedAt: 2025-02-06 10:57:40 -0500 (Thu, 06 Feb 2025) EndedAt: 2025-02-06 10:57:56 -0500 (Thu, 06 Feb 2025) EllapsedTime: 15.9 seconds RetCode: 0 Status: OK