Package: NxtIRFdata Version: 1.12.0 Command: /home/biocbuild/bbs-3.20-bioc/R/bin/R CMD INSTALL NxtIRFdata StartedAt: 2025-02-11 11:02:16 -0500 (Tue, 11 Feb 2025) EndedAt: 2025-02-11 11:02:19 -0500 (Tue, 11 Feb 2025) EllapsedTime: 2.2 seconds RetCode: 0 Status: OK