Package: OMICsPCAdata Version: 1.24.0 Command: /home/biocbuild/bbs-3.20-bioc/R/bin/R CMD build --keep-empty-dirs --no-resave-data OMICsPCAdata StartedAt: 2025-01-30 11:31:17 -0500 (Thu, 30 Jan 2025) EndedAt: 2025-01-30 11:32:15 -0500 (Thu, 30 Jan 2025) EllapsedTime: 57.1 seconds RetCode: 0 Status: OK PackageFile: OMICsPCAdata_1.24.0.tar.gz PackageFileSize: 42.44 MiB