Package: OMICsPCAdata Version: 1.24.0 Command: /home/biocbuild/bbs-3.20-bioc/R/bin/R CMD INSTALL OMICsPCAdata StartedAt: 2025-02-06 11:00:16 -0500 (Thu, 06 Feb 2025) EndedAt: 2025-02-06 11:00:56 -0500 (Thu, 06 Feb 2025) EllapsedTime: 40.0 seconds RetCode: 0 Status: OK