Package: PWMEnrich.Dmelanogaster.background Version: 4.40.0 Command: /home/biocbuild/bbs-3.20-bioc/R/bin/R CMD build --keep-empty-dirs --no-resave-data PWMEnrich.Dmelanogaster.background StartedAt: 2025-02-06 11:32:19 -0500 (Thu, 06 Feb 2025) EndedAt: 2025-02-06 11:32:20 -0500 (Thu, 06 Feb 2025) EllapsedTime: 1.4 seconds RetCode: 0 Status: OK PackageFile: PWMEnrich.Dmelanogaster.background_4.40.0.tar.gz PackageFileSize: 6.539 MiB