Package: PWMEnrich.Mmusculus.background Version: 4.40.0 Command: /home/biocbuild/bbs-3.20-bioc/R/bin/R CMD build --keep-empty-dirs --no-resave-data PWMEnrich.Mmusculus.background StartedAt: 2025-01-30 11:33:21 -0500 (Thu, 30 Jan 2025) EndedAt: 2025-01-30 11:33:22 -0500 (Thu, 30 Jan 2025) EllapsedTime: 1.7 seconds RetCode: 0 Status: OK PackageFile: PWMEnrich.Mmusculus.background_4.40.0.tar.gz PackageFileSize: 10.34 MiB