Package: PWMEnrich.Mmusculus.background Version: 4.40.0 Command: /home/biocbuild/bbs-3.20-bioc/R/bin/R CMD check --install=check:PWMEnrich.Mmusculus.background.install-out.txt --library=/home/biocbuild/bbs-3.20-bioc/R/site-library --timings PWMEnrich.Mmusculus.background_4.40.0.tar.gz StartedAt: 2025-01-30 12:30:28 -0500 (Thu, 30 Jan 2025) EndedAt: 2025-01-30 12:31:03 -0500 (Thu, 30 Jan 2025) EllapsedTime: 35.2 seconds RetCode: 0 Status: OK CheckDir: PWMEnrich.Mmusculus.background.Rcheck Warnings: 0