Package: PepsNMRData Version: 1.24.0 Command: /home/biocbuild/bbs-3.20-bioc/R/bin/R CMD build --keep-empty-dirs --no-resave-data PepsNMRData StartedAt: 2025-02-04 11:31:16 -0500 (Tue, 04 Feb 2025) EndedAt: 2025-02-04 11:31:29 -0500 (Tue, 04 Feb 2025) EllapsedTime: 13.2 seconds RetCode: 0 Status: OK PackageFile: PepsNMRData_1.24.0.tar.gz PackageFileSize: 31.89 MiB