Package: PepsNMRData Version: 1.24.0 Command: /home/biocbuild/bbs-3.20-bioc/R/bin/R CMD check --install=check:PepsNMRData.install-out.txt --library=/home/biocbuild/bbs-3.20-bioc/R/site-library --timings PepsNMRData_1.24.0.tar.gz StartedAt: 2025-02-04 12:28:17 -0500 (Tue, 04 Feb 2025) EndedAt: 2025-02-04 12:28:38 -0500 (Tue, 04 Feb 2025) EllapsedTime: 20.3 seconds RetCode: 0 Status: WARNINGS CheckDir: PepsNMRData.Rcheck Warnings: 1