Package: PhyloProfileData Version: 1.20.0 Command: /home/biocbuild/bbs-3.20-bioc/R/bin/R CMD build --keep-empty-dirs --no-resave-data PhyloProfileData StartedAt: 2025-02-06 11:31:24 -0500 (Thu, 06 Feb 2025) EndedAt: 2025-02-06 11:31:56 -0500 (Thu, 06 Feb 2025) EllapsedTime: 31.9 seconds RetCode: 0 Status: OK PackageFile: PhyloProfileData_1.20.0.tar.gz PackageFileSize: 225.8 KiB