Package: ProteinGymR Version: 1.0.0 Command: /home/biocbuild/bbs-3.20-bioc/R/bin/R CMD check --install=check:ProteinGymR.install-out.txt --library=/home/biocbuild/bbs-3.20-bioc/R/site-library --timings ProteinGymR_1.0.0.tar.gz StartedAt: 2025-02-06 12:28:53 -0500 (Thu, 06 Feb 2025) EndedAt: 2025-02-06 12:32:10 -0500 (Thu, 06 Feb 2025) EllapsedTime: 197.1 seconds RetCode: 0 Status: OK CheckDir: ProteinGymR.Rcheck Warnings: 0