Package: ProteinGymR Version: 1.0.0 Command: /home/biocbuild/bbs-3.20-bioc/R/bin/R CMD INSTALL ProteinGymR StartedAt: 2025-02-06 10:57:06 -0500 (Thu, 06 Feb 2025) EndedAt: 2025-02-06 10:57:19 -0500 (Thu, 06 Feb 2025) EllapsedTime: 13.6 seconds RetCode: 0 Status: OK