Package: QDNAseq.mm10 Version: 1.36.0 Command: /home/biocbuild/bbs-3.20-bioc/R/bin/R CMD check --install=check:QDNAseq.mm10.install-out.txt --library=/home/biocbuild/bbs-3.20-bioc/R/site-library --timings QDNAseq.mm10_1.36.0.tar.gz StartedAt: 2025-02-06 12:29:38 -0500 (Thu, 06 Feb 2025) EndedAt: 2025-02-06 12:31:50 -0500 (Thu, 06 Feb 2025) EllapsedTime: 131.2 seconds RetCode: 0 Status: OK CheckDir: QDNAseq.mm10.Rcheck Warnings: 0