Package: QDNAseq.mm10 Version: 1.36.0 Command: /home/biocbuild/bbs-3.20-bioc/R/bin/R CMD INSTALL QDNAseq.mm10 StartedAt: 2025-01-30 11:03:54 -0500 (Thu, 30 Jan 2025) EndedAt: 2025-01-30 11:04:10 -0500 (Thu, 30 Jan 2025) EllapsedTime: 15.3 seconds RetCode: 0 Status: OK