Package: RGMQLlib Version: 1.26.0 Command: /home/biocbuild/bbs-3.20-bioc/R/bin/R CMD build --keep-empty-dirs --no-resave-data RGMQLlib StartedAt: 2025-01-30 11:34:10 -0500 (Thu, 30 Jan 2025) EndedAt: 2025-01-30 11:34:21 -0500 (Thu, 30 Jan 2025) EllapsedTime: 11.0 seconds RetCode: 0 Status: OK PackageFile: RGMQLlib_1.26.0.tar.gz PackageFileSize: 86.08 MiB