Package: RITANdata Version: 1.30.0 Command: /home/biocbuild/bbs-3.20-bioc/R/bin/R CMD build --keep-empty-dirs --no-resave-data RITANdata StartedAt: 2025-01-30 11:34:23 -0500 (Thu, 30 Jan 2025) EndedAt: 2025-01-30 11:34:59 -0500 (Thu, 30 Jan 2025) EllapsedTime: 35.4 seconds RetCode: 0 Status: OK PackageFile: RITANdata_1.30.0.tar.gz PackageFileSize: 7.415 MiB