Package: RITANdata Version: 1.30.0 Command: /home/biocbuild/bbs-3.20-bioc/R/bin/R CMD INSTALL RITANdata StartedAt: 2025-02-06 10:55:32 -0500 (Thu, 06 Feb 2025) EndedAt: 2025-02-06 10:56:06 -0500 (Thu, 06 Feb 2025) EllapsedTime: 34.4 seconds RetCode: 0 Status: OK