Package: RMassBankData Version: 1.44.0 Command: /home/biocbuild/bbs-3.20-bioc/R/bin/R CMD build --keep-empty-dirs --no-resave-data RMassBankData StartedAt: 2025-02-04 11:33:26 -0500 (Tue, 04 Feb 2025) EndedAt: 2025-02-04 11:33:38 -0500 (Tue, 04 Feb 2025) EllapsedTime: 12.6 seconds RetCode: 0 Status: OK PackageFile: RMassBankData_1.44.0.tar.gz PackageFileSize: 51.54 MiB