Package: RMassBankData Version: 1.44.0 Command: /home/biocbuild/bbs-3.20-bioc/R/bin/R CMD check --install=check:RMassBankData.install-out.txt --library=/home/biocbuild/bbs-3.20-bioc/R/site-library --timings RMassBankData_1.44.0.tar.gz StartedAt: 2025-02-04 12:31:56 -0500 (Tue, 04 Feb 2025) EndedAt: 2025-02-04 12:32:16 -0500 (Tue, 04 Feb 2025) EllapsedTime: 20.3 seconds RetCode: 0 Status: OK CheckDir: RMassBankData.Rcheck Warnings: 0