Package: RMassBankData Version: 1.44.0 Command: /home/biocbuild/bbs-3.20-bioc/R/bin/R CMD INSTALL RMassBankData StartedAt: 2025-02-04 10:55:47 -0500 (Tue, 04 Feb 2025) EndedAt: 2025-02-04 10:55:49 -0500 (Tue, 04 Feb 2025) EllapsedTime: 2.5 seconds RetCode: 0 Status: OK