Package: RNAinteractMAPK Version: 1.44.0 Command: /home/biocbuild/bbs-3.20-bioc/R/bin/R CMD build --keep-empty-dirs --no-resave-data RNAinteractMAPK StartedAt: 2025-02-06 11:33:33 -0500 (Thu, 06 Feb 2025) EndedAt: 2025-02-06 11:33:34 -0500 (Thu, 06 Feb 2025) EllapsedTime: 1.0 seconds RetCode: 1 Status: ERROR PackageFile: None PackageFileSize: NA