Package: RRBSdata Version: 1.26.0 Command: /home/biocbuild/bbs-3.20-bioc/R/bin/R CMD build --keep-empty-dirs --no-resave-data RRBSdata StartedAt: 2025-01-30 11:35:08 -0500 (Thu, 30 Jan 2025) EndedAt: 2025-01-30 11:35:50 -0500 (Thu, 30 Jan 2025) EllapsedTime: 41.6 seconds RetCode: 0 Status: OK PackageFile: RRBSdata_1.26.0.tar.gz PackageFileSize: 73.93 MiB