Package: RRBSdata Version: 1.26.0 Command: /home/biocbuild/bbs-3.20-bioc/R/bin/R CMD INSTALL RRBSdata StartedAt: 2025-01-30 11:02:07 -0500 (Thu, 30 Jan 2025) EndedAt: 2025-01-30 11:02:32 -0500 (Thu, 30 Jan 2025) EllapsedTime: 24.8 seconds RetCode: 0 Status: OK