Package: RTCGA.CNV Version: 1.34.0 Command: /home/biocbuild/bbs-3.20-bioc/R/bin/R CMD check --install=check:RTCGA.CNV.install-out.txt --library=/home/biocbuild/bbs-3.20-bioc/R/site-library --timings RTCGA.CNV_1.34.0.tar.gz StartedAt: 2025-01-30 12:35:49 -0500 (Thu, 30 Jan 2025) EndedAt: 2025-01-30 12:36:55 -0500 (Thu, 30 Jan 2025) EllapsedTime: 66.8 seconds RetCode: 0 Status: WARNINGS CheckDir: RTCGA.CNV.Rcheck Warnings: 1