Package: RTCGA.PANCAN12 Version: 1.34.0 Command: /home/biocbuild/bbs-3.20-bioc/R/bin/R CMD check --install=check:RTCGA.PANCAN12.install-out.txt --library=/home/biocbuild/bbs-3.20-bioc/R/site-library --timings RTCGA.PANCAN12_1.34.0.tar.gz StartedAt: 2025-02-06 12:34:54 -0500 (Thu, 06 Feb 2025) EndedAt: 2025-02-06 12:36:48 -0500 (Thu, 06 Feb 2025) EllapsedTime: 113.9 seconds RetCode: 0 Status: OK CheckDir: RTCGA.PANCAN12.Rcheck Warnings: 0