Package: RTCGA.PANCAN12 Version: 1.34.0 Command: /home/biocbuild/bbs-3.20-bioc/R/bin/R CMD INSTALL RTCGA.PANCAN12 StartedAt: 2025-02-11 10:58:02 -0500 (Tue, 11 Feb 2025) EndedAt: 2025-02-11 10:58:11 -0500 (Tue, 11 Feb 2025) EllapsedTime: 8.5 seconds RetCode: 0 Status: OK