Package: RTCGA.mRNA Version: 1.34.0 Command: /home/biocbuild/bbs-3.20-bioc/R/bin/R CMD build --keep-empty-dirs --no-resave-data RTCGA.mRNA StartedAt: 2025-02-06 11:34:33 -0500 (Thu, 06 Feb 2025) EndedAt: 2025-02-06 11:35:13 -0500 (Thu, 06 Feb 2025) EllapsedTime: 39.9 seconds RetCode: 0 Status: OK PackageFile: RTCGA.mRNA_1.34.0.tar.gz PackageFileSize: 84.98 MiB