Package: RTCGA.methylation Version: 1.34.0 Command: /home/biocbuild/bbs-3.20-bioc/R/bin/R CMD build --keep-empty-dirs --no-resave-data RTCGA.methylation StartedAt: 2025-01-30 11:35:24 -0500 (Thu, 30 Jan 2025) EndedAt: 2025-01-30 11:38:36 -0500 (Thu, 30 Jan 2025) EllapsedTime: 191.3 seconds RetCode: 0 Status: OK PackageFile: RTCGA.methylation_1.34.0.tar.gz PackageFileSize: 622.8 MiB