Package: RTCGA.methylation Version: 1.34.0 Command: /home/biocbuild/bbs-3.20-bioc/R/bin/R CMD INSTALL RTCGA.methylation StartedAt: 2025-01-30 10:58:02 -0500 (Thu, 30 Jan 2025) EndedAt: 2025-01-30 11:00:39 -0500 (Thu, 30 Jan 2025) EllapsedTime: 156.7 seconds RetCode: 0 Status: OK