Package: RTCGA.miRNASeq Version: 1.34.0 Command: /home/biocbuild/bbs-3.20-bioc/R/bin/R CMD build --keep-empty-dirs --no-resave-data RTCGA.miRNASeq StartedAt: 2025-01-30 11:35:32 -0500 (Thu, 30 Jan 2025) EndedAt: 2025-01-30 11:37:24 -0500 (Thu, 30 Jan 2025) EllapsedTime: 112.1 seconds RetCode: 0 Status: OK PackageFile: RTCGA.miRNASeq_1.34.0.tar.gz PackageFileSize: 45.24 MiB