Package: RTCGA.rnaseq Version: 20151101.36.0 Command: /home/biocbuild/bbs-3.20-bioc/R/bin/R CMD build --keep-empty-dirs --no-resave-data RTCGA.rnaseq StartedAt: 2025-01-30 11:35:58 -0500 (Thu, 30 Jan 2025) EndedAt: 2025-01-30 11:39:42 -0500 (Thu, 30 Jan 2025) EllapsedTime: 224.2 seconds RetCode: 0 Status: OK PackageFile: RTCGA.rnaseq_20151101.36.0.tar.gz PackageFileSize: 612.6 MiB