Package: RcisTarget.hg19.motifDBs.cisbpOnly.500bp Version: 1.26.0 Command: /home/biocbuild/bbs-3.20-bioc/R/bin/R CMD INSTALL RcisTarget.hg19.motifDBs.cisbpOnly.500bp StartedAt: 2025-02-11 10:55:57 -0500 (Tue, 11 Feb 2025) EndedAt: 2025-02-11 10:56:07 -0500 (Tue, 11 Feb 2025) EllapsedTime: 9.3 seconds RetCode: 0 Status: OK